BEGIN:VCALENDAR
VERSION:2.0
PRODID:-//Club de Radiocontrol Villa de Vallecas - ECPv6.15.20//NONSGML v1.0//EN
CALSCALE:GREGORIAN
METHOD:PUBLISH
X-WR-CALNAME:Club de Radiocontrol Villa de Vallecas
X-ORIGINAL-URL:https://crvv.es
X-WR-CALDESC:Eventos para Club de Radiocontrol Villa de Vallecas
REFRESH-INTERVAL;VALUE=DURATION:PT1H
X-Robots-Tag:noindex
X-PUBLISHED-TTL:PT1H
BEGIN:VTIMEZONE
TZID:UTC
BEGIN:STANDARD
TZOFFSETFROM:+0000
TZOFFSETTO:+0000
TZNAME:UTC
DTSTART:20240101T000000
END:STANDARD
END:VTIMEZONE
BEGIN:VEVENT
DTSTART;TZID=UTC:20251220T090000
DTEND;TZID=UTC:20251221T170000
DTSTAMP:20260421T224150
CREATED:20251122T112918Z
LAST-MODIFIED:20251124T184050Z
UID:624-1766221200-1766336400@crvv.es
SUMMARY:Carrera de Radiocontrol del Jamón 2025
DESCRIPTION:🎉 ¡Vuelve la Carrera del Jamón 2025! 🎉El evento más sabroso\, emocionante y esperado del año ya está aquí. Un clásico del CRVV que cada edición reúne a pilotos\, familias y amantes de los coches de radiocontrol de carreras… ¡y este año promete ser más grande que nunca! \n🥇 ¿El premio estrella?¡Nada menos que un jamón espectacular para el ganador!Pero eso no es todo: gracias a nuestros increíbles patrocinadores\, habrá montones de premios adicionales que harán que nadie se vaya a casa con las manos vacías. \n📅 Reserva la fecha:👉 20 y 21 de diciembre de 2025Un fin de semana lleno de adrenalina\, competición y diversión asegurada. \n🏁 Categorías en competición: \n\nBuggy Nitro 1/8\nBuggy Eco 1/8\nTruggy Nitro/Eco 1/8\n\nRegístrate aquí. \n📌 Programa del evento: \n\n20 de diciembre – Entrenamientos libres: ajusta tu máquina\, conoce el terreno y afina tu estrategia.\n21 de diciembre – ¡Día de carreras! La batalla definitiva por el jamón y la gloria.\n\n🔥 Prepárate para vibrar con esta edición que llega cargada de emoción\, premios y un ambiente espectacular. ¡No faltes!
URL:https://crvv.es/event/carrera-radiocontrol-del-jamon-2025/
LOCATION:Club CRVV\, Calle Navamures esquina Calle Puerto de Porzuna\, Madrid\, Spain
CATEGORIES:1:8 TT Buggy Eco,1:8 TT Buggy Nitro
ATTACH;FMTTYPE=image/jpeg:https://crvv.es/wp-content/uploads/2025/11/jamon_2025-1.jpg
ORGANIZER;CN="Club Radio Control Villa de Vallecas":MAILTO:clubcrvvvilladevallecas@gmail.com
END:VEVENT
END:VCALENDAR